BEGIN:VCALENDAR
VERSION:2.0
CALSCALE:GREGORIAN
PRODID:-//MyApp//Calendar 1.0//EN
BEGIN:VEVENT
METHOD:PUBLISH
UID:56109@regionalniportaly.cz
DTSTAMP:20260421T220631Z
DTSTART;VALUE=DATE:20250814
DTEND;VALUE=DATE:20250815
SUMMARY:Zámek Křinec | zábavné rodinné čtvrtky
DESCRIPTION:Letní zábava pro celou rodinu!Vydejte se s námi do pohádkového světa zábavy\, tvoření a her!ČTYŘI PRÁDZNINOVÉ ČTVRTKY NA ZÁMKU KŘINECK NABÍDNOU DĚTEM I DOSPĚLÝM ODPOLEDNE PLNÉ DOBRODRUŽSTVÍ\, UMĚNÍ I ZÁBAVY.10. 7.&nbsp\;– Rytíři a princezny31. 7. – Hry dávných časů14. 8. – Zámecká olympiáda28. 8. – Čáry máry&nbsp\;Program (14.00–20.00):dílny\, hry a soutěžemalování na obličejhudba\, zahradní hry a hračky na nádvoří15.00 – prohlídka zámku s komtesou16.00 – prohlídka výstavy Otisky věcí (vstupenky v samostatné akci)16.00 – opékání buřtů18.30 – dětská diskotéka nebo jóga&nbsp\;(vstupenky na jógu samostatně)Otevřená kavárna a občerstvení po celý den!Neváhejte a pořiďte si vstupenky včas – těšíme se na vás!
LOCATION:Křinec
END:VEVENT
END:VCALENDAR