BEGIN:VCALENDAR
VERSION:2.0
CALSCALE:GREGORIAN
PRODID:-//MyApp//Calendar 1.0//EN
BEGIN:VEVENT
METHOD:PUBLISH
UID:56113@regionalniportaly.cz
DTSTAMP:20260421T164208Z
DTSTART;VALUE=DATE:20250814
DTEND;VALUE=DATE:20250815
SUMMARY:Výstava Otisky věcí | komentovaná prohlídka
DESCRIPTION:VÝSTAVA OTISKY VĚCÍ | ŽIDLE\, KABELKY A VYNÁLEZYŽidle\, kabelky a vynálezy doplněné o drobné artefakty z období let 1950-2015\, na první pohled naprosto nesourodé\, ale krásné\, vystavené pospolu v historickém prostředí zámku Křinec\, vytváří harmonický a zajímavý celek.&nbsp\;Výstavou vás provede samotná paní Ing. Arch. Zuzana Ilinčevová\, sběratelka kabelek s příběhem a nadaná architektka.Zámek KřinecRodinný zámek ze 17. století nacházející se pouhou hodinu jízdy od Prahy ve Středočeském kraji je ideálním místem pro ty\, kteří hledají unikátní prostředí pro svou svatbu\, oslavu\, firemní akci nebo jinou společenskou událost.&nbsp\;
LOCATION:Křinec
END:VEVENT
END:VCALENDAR