BEGIN:VCALENDAR
VERSION:2.0
CALSCALE:GREGORIAN
PRODID:-//MyApp//Calendar 1.0//EN
BEGIN:VEVENT
METHOD:PUBLISH
UID:56134@regionalniportaly.cz
DTSTAMP:20260421T182733Z
DTSTART;VALUE=DATE:20250823
DTEND;VALUE=DATE:20250824
SUMMARY:Zámek Křinec | Hradozámecká noc 2025
DESCRIPTION:Zámek Křinec i desítky dalších památek po celém Česku zůstanou otevřeny i po setmění a nabídnou návštěvníkům jedinečné zážitky v podobě netradičních prohlídek\, večera plného příběhů\, hudby a divadla. Přijďte se přesvědčit!10.00 - 18.00 PROHLÍDKY ZÁMKU| v průběhu celého dne probíhají klasické komentované prohlídky zámku pro dospělé a zábavné prohlídky zámku pro děti20.00 NA OCET (D.Churchill)| divadelní představení plné hitů 80. let\, hrají L. Vlasáková\, J. Dolanský21.00 OTISKY VĚCÍ | ŽIDLE\, KABELKY A VYNÁLEZY| tajemná komentovaná prohlídka výstavy designu v unikátních prostorách zámku22.00 NOČNÍ HRANÁ ÚNIKOVKA| podaří se vám splnit úkoly a hádanky a uniknout tak ze zámku\, nebo vás zámek již nikdy nepustí?24.00 ŠANSONY VAŠEHO SRDCE| Alena Hladká &amp\; Petr Ožana&nbsp\;&nbsp\;Vstupenky na divadlo a koncert zde:&nbsp\;https://zameckeletovkrinci.cz/vstupenky/Moc se a všechny těšíme!&nbsp\;&nbsp\;
LOCATION:Křinec
END:VEVENT
END:VCALENDAR