BEGIN:VCALENDAR
VERSION:2.0
CALSCALE:GREGORIAN
PRODID:-//MyApp//Calendar 1.0//EN
BEGIN:VEVENT
METHOD:PUBLISH
UID:56251@regionalniportaly.cz
DTSTAMP:20260421T183400Z
DTSTART;VALUE=DATE:20250927
DTEND;VALUE=DATE:20250928
SUMMARY:Procitáš Tour: Metanol\, Mantra\, Define Me + Forrest Jump
DESCRIPTION:PROCITÁŠ TOUR 2025 | ZASTÁVKA RADIMTři výrazné kapely české rockové a metalové scény –&nbsp\;Metanol\,&nbsp\;Mantra&nbsp\;a&nbsp\;Define Me&nbsp\;– vyráží vůbec poprvé společně na turné pod názvem&nbsp\;PROCITÁŠ!První zastávka téhle energické jízdy proběhne na magickém místě&nbsp\;Zastávka Radim\, které se na jeden večer promění v epicentrum syrové energie\, emocí a výbušné muziky.Speciálním hostem večera bude ostřílená kapela Forrest Jump\, která přiveze svůj poctivý metalový nářez a postará se o to\, že vaše srdce rozbuší naplno ještě před hlavním výbuchem!Přijď zažít večer plný silných textů\, nezaměnitelné atmosféry a kapel\, které&nbsp\;nehrají jen hudbu – ale prožívají ji s vámi. Tohle bude víc než koncert. Tohle je probuzení.Metanol:&nbsp\;Klip "Procitáš"Klip "V Zajetí"Mantra:Klip "Jednou"Klip "Znamení"Define me:Klip "Střechy"Klip "Nože"Forrest Jump:Klip "Devadesátky"Klip "Maják"&nbsp\;
LOCATION:Radim
END:VEVENT
END:VCALENDAR