BEGIN:VCALENDAR
VERSION:2.0
CALSCALE:GREGORIAN
PRODID:-//MyApp//Calendar 1.0//EN
BEGIN:VEVENT
METHOD:PUBLISH
UID:56413@regionalniportaly.cz
DTSTAMP:20260421T145031Z
DTSTART;VALUE=DATE:20250817
DTEND;VALUE=DATE:20250818
SUMMARY:Filozofování na zámku s Marianem Jelínkem a Jiřím Beranem
DESCRIPTION:Otevíráme třetí ročník série Filozofování na zámku Berchtold\, kde se opět potkají lidé\, kteří se nebojí klást otázky\, dívat se na svět z různých úhlů a sdílet svou moudrost\, zvědavost i humor.Hostitelem večera je Marian Jelínek\, který si zve hosty napříč obory – od psychologie přes filozofii až po umění a sport.Třetím hostem letošního ročníku bude Prof. MUDr. Jiří Beran – klinický psycholog\, spisovatel\, herec a hudebník. Čeká vás živé a hluboké setkání dvou osobností\, které umí spojit intelekt s lidskostí.Akce je komorní – pro maximálně 80 osob\, aby si zachovala intimní atmosféru. Můžete se zapojit\, ptát se\, nebo jen tiše naslouchat. Vzniká tím jedinečný prostor pro inspiraci\, sdílení a péči o duši.Zámek Berchtold dodává setkání noblesní\, ale přesto útulnou kulisu. Doporučujeme přijet s předstihem\, projít se parkem\, dát si něco dobrého v místní restauraci a naladit se na večerní program.Host Prof. MUDr. Jiří BeranVěnuje se epidemiologii více než 30 let. V roce 1994 se začal zabývat vývojem očkovacích látek\, zejména proti chřipce\, lymeské borelióze nebo klíšťové meningoencefalitidě\, virové hepatitidě A\, břišnímu tyfu a virové hepatitidě B. Od roku 1997 se zabývá problematikou cestovního lékařství.V dubnu 2002 se stal ředitelem a vedoucím lékařem Centra očkování a cestovní medicíny v Hradci Králové. Založil a v letech 2002–2008 vedl obdobné centrum při Klinice infekčních nemocí Fakultní nemocnice v Hradci Králové. V roce 2004 se stal vedoucím Samostatného výukového pracoviště tropické a cestovní medicíny Institutu postgraduálního vzdělávání ve zdravotnictví v Praze.V době epidemie onemocnění covid-19 zněl jeho hlas silněv různých diskusních pořadech\, ve kterých si dovolil nesouhlasit s některými výklady a postupy\, které odporovaly jeho poznání a profesním zkušenostem. Vyvrací a uvádí na pravou míru mnoho omylů a mýtů ohledně virů i naší imunity.Hostitel: Marian JelínekSportovní trenér\, mentální kouč\, odborník na motivaci a manažerský přístup. Marian je známý svým hlubokým zájmem o psychologii a filozofii\, které propojuje se světem vrcholového sportu i byznysu.Má doktorát z kinantropologie\, v minulosti působil jako trenér hokejových týmů v Česku i zahraničí. Mezi jeho největší úspěchy patří titul mistra světa z MS 2005 ve Vídni\, dva extraligové tituly s HC Sparta Praha či vítězství s HC Plzeň. Proslavil se také jako dlouholetý kouč Jaromíra Jágra.Přednáší\, školí a inspiruje manažery i sportovce. Je garantem studijního zaměření Psychologie pro manažery na NEWTON University.
LOCATION:Kunice
END:VEVENT
END:VCALENDAR