BEGIN:VCALENDAR
VERSION:2.0
CALSCALE:GREGORIAN
PRODID:-//MyApp//Calendar 1.0//EN
BEGIN:VEVENT
METHOD:PUBLISH
UID:56561@regionalniportaly.cz
DTSTAMP:20260421T143327Z
DTSTART;VALUE=DATE:20251101
DTEND;VALUE=DATE:20251102
SUMMARY:Alžběta + Aldabra tour
DESCRIPTION:Alžběta + Aldabra tour 2025\, support: Rasmane
LOCATION:Dvory
END:VEVENT
END:VCALENDAR