BEGIN:VCALENDAR
VERSION:2.0
CALSCALE:GREGORIAN
PRODID:-//MyApp//Calendar 1.0//EN
BEGIN:VEVENT
METHOD:PUBLISH
UID:56591@regionalniportaly.cz
DTSTAMP:20260421T125634Z
DTSTART;VALUE=DATE:20250828
DTEND;VALUE=DATE:20250829
SUMMARY:Zámek Křinec | Diskotéka Baby Jagy | TV pro děti
DESCRIPTION:OSLAVTE KONEC PRÁZDNINY STYLOVĚ! 28.8. v 10:30 Vydejte se s námi do pohádkového světa zábavy\, tvoření a her a dnes i mimořádně do světa DISKOTÉKOVÉHO!V RÁMCI ČTYŘ&nbsp\;PRÁZDNINOVÝCH ČTVRTKŮ&nbsp\;NA ZÁMKU KŘINEC&nbsp\;SI VTEN ZÁVĚREČNÝ POŘÁDNĚ ZATANČÍME!DISKOTÉKA BABY JAGY JE TU!!!Zábavná tanečně-vokální show s dýdžejkou Babou Jagou jako hlavní protagonistkou je určená pro děti všeho věku. Dýdžejka Baba Jaga přijede spolu s některými nejpopulárnějšími postavami YouTube kanálu TV PRO DĚTI. Zahrají a zazpívají sety v taneční úpravě\, skládajících se z největších hitů jakými jsou Jedeme vlakem\, Kamarád Pes\, Vzhůru ke hvězdám\, Když Draka bolí hlava\, Narozeninový Karneval nebo nejpopulárnější písničku posledních dob: Hurá\, je tu Mikuláš.Nejlepší hodinovou Diskotéku\, zažijete jedině s&nbsp\;Baba Jagou.https://www.tvprodeti.cz/cs/m/mcp71hf/svh2utg-diskoteka-baby-jagyNa diskotéku volně navazuje program zábavného čtvrtka na téma "ČÁRY MÁRY" plný zábavy\, opékání buřtů či prohlídky zámku s komtesou.V případě zakoupení vstupenky na Diskotéku Baby Jagy získáváte na akci zábavného čtvrtku vstup zdarma!
LOCATION:Křinec
END:VEVENT
END:VCALENDAR