BEGIN:VCALENDAR
VERSION:2.0
CALSCALE:GREGORIAN
PRODID:-//MyApp//Calendar 1.0//EN
BEGIN:VEVENT
METHOD:PUBLISH
UID:56592@regionalniportaly.cz
DTSTAMP:20260421T125614Z
DTSTART;VALUE=DATE:20250828
DTEND;VALUE=DATE:20250829
SUMMARY:Zámek Křinec | zábavné rodinné čtvrtky
DESCRIPTION:Letní zábava pro celou rodinu!Vydejte se s námi do pohádkového světa zábavy\, tvoření a her!ČTYŘI PRÁDZNINOVÉ ČTVRTKY NA ZÁMKU KŘINECK NABÍDNOU DĚTEM I DOSPĚLÝM ODPOLEDNE PLNÉ DOBRODRUŽSTVÍ\, UMĚNÍ I ZÁBAVY.28. 8. – Čáry máry&nbsp\;Program (12.00–18.00):dílny\, hry a soutěžemalování na obličejhudba\, zahradní hry a hračky na nádvoří13.00 a 15.00 – prohlídka zámku s komtesou (vstupenky samostatně)14.00 – opékání buřtů16.00 – prohlídka výstavy Otisky věcí (vstupenky v samostatné akci)17:00 – dětská diskotéka nebo jóga&nbsp\;(vstupenky na jógu samostatně)Otevřená kavárna a občerstvení po celý den!Neváhejte a pořiďte si vstupenky včas – těšíme se na vás!P.S. Při zakoupení vstupenky na dětskou prohlídku či na diskotéku Baby Jagy je vstup na tutio akci zdarma!
LOCATION:Křinec
END:VEVENT
END:VCALENDAR