BEGIN:VCALENDAR
VERSION:2.0
CALSCALE:GREGORIAN
PRODID:-//MyApp//Calendar 1.0//EN
BEGIN:VEVENT
METHOD:PUBLISH
UID:57116@regionalniportaly.cz
DTSTAMP:20260421T164317Z
DTSTART;VALUE=DATE:20250911
DTEND;VALUE=DATE:20250912
SUMMARY:Jak na zdravou krajinu ve středních Čechách
DESCRIPTION:Jakým výzvám čelí v současnosti česká zemědělská krajina? Jak připravit krajinná opatření v obci a správně hospodařit na obecních pozemcích? Jakým způsobem efektivně připravovat a aktivně pracovat s adaptační strategií regionu či obce? A jaký dopad mají komplexní pozemkové úpravy (KPÚ)? Na tyto otázky vám odpoví náš vzdělávací kurz.\nSoučástí programu je mimo jiné představení adaptační strategie regionu Podlipansko a exkurze po opatřeních realizovaných v rámci komplexních pozemkových úprav\, které byly v Červených Pečkách provedeny. Dozvíme se\, jaký byl průběh KPÚ\, jaké závazky z toho obci plynou i funkčnost navržených opatření a mnoho dalšího.\nPořádá Nadace Partnerství – akreditovaná organizace MVČR č. AK/I-2/2023 spolu s MAS Podlipansko.\nPro koho je kurz určen:Vzdělávací kurz je určen pro zástupce samospráv i pracovníky městských a obecních úřadů a jejich příspěvkových organizací. Zejména pak ty\, kteří mají v náplni práce péči o obecní majetek (budovy\, stavby\, veřejnou zeleň\, veřejná prostranství\, infrastrukturu či volné pozemky)\, včetně financování\, nebo se podílejí na podobě projektů. Vhodný je i pro pracovníky regionálních dotačních agentur\, místních akčních skupin a pro dotační specialisty. V neposlední řadě informačně obohatí i krajinné architekty a členy místních přírodovědných či ochranářských spolků.\nKurz lze zahrnout do průběžného vzdělávání úředníků. Pokud máte o osvědčení zájem\, napište nám to do poznámky v registračním formuláři.
LOCATION:Červené Pečky
END:VEVENT
END:VCALENDAR