BEGIN:VCALENDAR
VERSION:2.0
CALSCALE:GREGORIAN
PRODID:-//MyApp//Calendar 1.0//EN
BEGIN:VEVENT
METHOD:PUBLISH
UID:57511@regionalniportaly.cz
DTSTAMP:20260421T182743Z
DTSTART;VALUE=DATE:20250913
DTEND;VALUE=DATE:20250914
SUMMARY:Expedice Helena | cestovatelská přednáška na zámku Křinec
DESCRIPTION:Jaké to asi je\, dostat čerstvě řidičák\, úspěšně odmaturovat a místo bujarých letních večírků vyjet s 26&nbsp\;let starou Feldou na Balkán? To a další zajímavosti s cesty po Evropě vám povypráví dva maloměští dobrodruzi.&nbsp\;26 LET STARÁ FELDA2 500 KILOMETRŮ2 DOBRODRUZI S ČERSTVÝM ŘIDIČÁKEM&nbsp\;VIDEOPOZVÁNKA ZDE:&nbsp\;www.instagram.com/reel/DKnIDy2qWa9/?igsh=MWlvOW9nbmE2dXZhdg==&nbsp\;Přednáška se koná v zámecké kavárně\, po celou dobu bude tedy možné zakoupit občerstvení. Před přednáškou je možné navštívit i prohlídky zámku od 12.00\, 13.30 a 15.00 hodin.Počet míst na přednášku je omezen\, doporučujeme včasnou rezervaci.&nbsp\;www.zamekkrinec.cz
LOCATION:Křinec
END:VEVENT
END:VCALENDAR