BEGIN:VCALENDAR
VERSION:2.0
CALSCALE:GREGORIAN
PRODID:-//MyApp//Calendar 1.0//EN
BEGIN:VEVENT
METHOD:PUBLISH
UID:57574@regionalniportaly.cz
DTSTAMP:20260421T162250Z
DTSTART;VALUE=DATE:20251031
DTEND;VALUE=DATE:20251101
SUMMARY:Světáci
DESCRIPTION:DIvadelní představení Světáci uspořádáné k 10.výročí založení Divadelního spolku OUDIV\, z.s.
LOCATION:Úvaly
END:VEVENT
END:VCALENDAR