BEGIN:VCALENDAR
VERSION:2.0
CALSCALE:GREGORIAN
PRODID:-//MyApp//Calendar 1.0//EN
BEGIN:VEVENT
METHOD:PUBLISH
UID:57578@regionalniportaly.cz
DTSTAMP:20260421T162644Z
DTSTART;VALUE=DATE:20251121
DTEND;VALUE=DATE:20251122
SUMMARY:Světáci
DESCRIPTION:DIvadelní představení Světáci - Divadelní spolek OUDIV z.s.
LOCATION:Doubek
END:VEVENT
END:VCALENDAR