BEGIN:VCALENDAR
VERSION:2.0
CALSCALE:GREGORIAN
PRODID:-//MyApp//Calendar 1.0//EN
BEGIN:VEVENT
METHOD:PUBLISH
UID:57653@regionalniportaly.cz
DTSTAMP:20260421T125807Z
DTSTART;VALUE=DATE:20251028
DTEND;VALUE=DATE:20251029
SUMMARY:Výroční cena města Čelákovic
DESCRIPTION:Slavnostní večer u příležitosti udělení Výroční ceny města Čelákovic 2025 s koncertem Kamila Střihavky v akustickém podání.
LOCATION:Čelákovice
END:VEVENT
END:VCALENDAR