BEGIN:VCALENDAR
VERSION:2.0
CALSCALE:GREGORIAN
PRODID:-//MyApp//Calendar 1.0//EN
BEGIN:VEVENT
METHOD:PUBLISH
UID:58640@regionalniportaly.cz
DTSTAMP:20260421T162502Z
DTSTART;VALUE=DATE:20251107
DTEND;VALUE=DATE:20251109
SUMMARY:Autosalon Kola 2025
DESCRIPTION:Srdečně Vás zveme na 29. ročník veletrhu Autosalon Kola\, který proběhne od 7. do 9. listopadu 2025 v Lysé nad Labem.\nTěšit se můžete na bohatou přehlídku automobilů\, motocyklů a dalších vozidel – od tradičních značek po nejnovější modely. Věříme\, že i letošní ročník přinese zajímavé exponáty a doprovodný program\, který zaujme jak automobilové nadšence\, tak běžné návštěvníky.\nChystaná Motor Show je v letošním roce rozšířena do tří hal a venkovních prostor. \nV rámci TUNING SHOW se zde představí různě upravená auta\, která se zúčastňují tuzemských nebo zahraničních soutěží a srazů.\nV sekci US CARS najdou návštěvníci několik amerických aut\, a to jak veterány\, tak i ty nejnovější MUSCLE CARS nebo US TRUCK – KENWORTH.\nVýstava CLASSIC CARS nabídne veřejnosti přehlídku osobních i nákladních automobilů a motocyklů z období od konce druhé světové války až do 90. let 20. století\, čímž uspokojí milovníky veteránů i mladších vozidel z této éry.\nNovinkou bude expozice SUPERSPORT CARS – SPORTOVNÍ A SUPERSPORTOVNÍ AUTOMOBILY.\nPřipravena bude i expozice tříkolových motocyklů – TRIKE.\nNa venkovní ploše u haly A najdete kromě Amerických\, Offroad a dalších aut i krásně upravené kamiony\, pro které bude vyčleněna TRUCK ZONA.\nDoprovodný program výstavy nabídne návštěvníkům po celou dobu akce ukázky RC DRIFT a RC OFFROAD.\nOdvážní návštěvníci se mohou v Sobotu svést na driftovací tříkolce – DRIFT TRIKE.\nSamozřejmostí budou i různé soutěže pro návštěvníky\, výměna kola na čas\, pití piva na čas\, pojídání párku v rohlíku na čas a další.\nPokud si sebou na výstavu přinesete v SOBOTU nebo v NEDĚLI vzorek motorového oleje\, můžete si ho nechat na stánku METABOND otestovat a zúčastnit se losování o hodnotné ceny.\nPo celou dobu výstavy bude probíhat hudební show\, kterou zajistíBENY ROCK\, kterého doplní v sobotu a v neděli ELVIS PRESLEY SHOW!\nPozvání přijal také David Kubrt z KUBRT AUTO\, kterého můžete vyzpovídat\, nebo si nechat poradit jak nejlépe vybrat auto z dovozu.Kdo bude mít zájem\, může využít služeb BARBER SHOPU a nechat si udělat nějaký stylový účes.Kdo bude chtít utrácet\, může si zde nakoupit auto doplňky nebo autokosmetiku a další potřebné věci do domácnosti či na sebe.\nSoučástí MOTOR SHOW bude i tradiční DIVÁCKÁ ANKETA\, ve které návštěvníci po celou dobu konání výstavy vybírají nejhezčí vůz a aranžmá.\nV sobotu 8.11. 2025 bude program rozšířen oTUNING / US CARS / OFFROAD / CLASSIC CARS SRAZa NOČNÍ TUNING – SVĚTELNOU SHOW.\nV neděli proběhne vyhlášení výsledků DIVÁCKÉ ANKETY i dalších soutěží a také bude vylosováno 5 hlasujících návštěvníků\, kteří získají hodnotné ceny od partnerů výstavy.\nNeváhejte a nenechte si ujít jedinečnou kombinaci motoristické výstavy a zábavy.
LOCATION:Lysá nad Labem
END:VEVENT
END:VCALENDAR