BEGIN:VCALENDAR
VERSION:2.0
CALSCALE:GREGORIAN
PRODID:-//MyApp//Calendar 1.0//EN
BEGIN:VEVENT
METHOD:PUBLISH
UID:58641@regionalniportaly.cz
DTSTAMP:20260421T143249Z
DTSTART;VALUE=DATE:20251002
DTEND;VALUE=DATE:20251005
SUMMARY:Podzimní zemědělec a Náš chov 2025
DESCRIPTION:Veletrh Podzimní Zemědělec 2025Srdečně vás zveme na veletrh zemědělství\, zahrádkářství a potravinářství Podzimní Zemědělec 2025\, který se uskuteční v areálu výstaviště v termínu 2. - 5. 10. 2025.Prezentace firem\, produktů a novinek v zemědělstvíCílem této akce je představit široké veřejnosti to nejlepší ze současného zemědělství\, zahradnictví i potravinářství. Výstava je určena jak odborníkům z oboru\, tak i běžným návštěvníkům\, kteří se chtějí seznámit s českým zemědělstvím\, drobným zahrádkařením a novinkami v oboru. Součástí programu budou i odborné přednášky a poradny\, které nabídnou praktické rady i aktuální informace.Hala B – široký sortiment pro zahradu i kuchyniV hale B naleznete pestrý výběr produktů – od semen\, květin\, cibulovin a přípravků na ochranu rostlin\, přes farmářské potraviny až po zahradnické nářadí\, potřeby a nábytek. Chybět nebudou ani tradiční i netradiční produkty od lokálních výrobců a farmářů.Hala C – Šampionáty mléčného skotuMilovníky živočišné výroby čekají v hale C čtyři dny špičkové genetiky\, kvalitních zvířat\, mladých talentů a nadšených chovatelů z celé republiky i ze zahraničí.Připraven je následující program:Čtvrtek 2. října – Soutěž Junior týmůPátek 3. října – Národní Holštýnský šampionát s novinkou: večerním slavnostním fináleSobota 4. října – Národní šampionáty plemen Jersey a Brown SwissNeděle 5. října – Ukázky a prezentace plemen Holštýn\, Jersey a Brown SwissHala A1 – Výstava Náš chovSouběžně proběhne také celostátní výstava hospodářských zvířat Náš Chov. V hale A1 budete mít možnost vidět tradiční i vzácná plemena ovcí a koz\, zakoupit či ochutnat produkty z ovčího a kozího mléka a masa nebo si vyzkoušet zpracování ovčí vlny. Naleznete zde také unikátní vlněné výrobky\, prezentace čistokrevné drůbeže a králíků pod vedením Českého svazu chovatelů a možnost nákupu zvířat pro vlastní chov. Celá expozice bude prodejní. Nebude chybět ani oblíbený „kotlík“ s jehněčím guláškem.Venkovní plocha – Zahradnický trhNa venkovní výstavní ploše proběhne zahradnický trh\, kde si návštěvníci mohou zakoupit tradiční odrůdy ovocných stromků\, keře\, květiny a další zahradnický sortiment.Těšíme se na vaši návštěvu na Podzimním Zemědělci 2025 – veletrhu plném tradic\, poctivého jídla\, novinek a inspirace ze světa zemědělství\, chovu i zahradničení.
LOCATION:Lysá nad Labem
END:VEVENT
END:VCALENDAR