BEGIN:VCALENDAR
VERSION:2.0
CALSCALE:GREGORIAN
PRODID:-//MyApp//Calendar 1.0//EN
BEGIN:VEVENT
METHOD:PUBLISH
UID:58642@regionalniportaly.cz
DTSTAMP:20260421T162339Z
DTSTART;VALUE=DATE:20251024
DTEND;VALUE=DATE:20251028
SUMMARY:Exotika 2025
DESCRIPTION:Největší evropská výstava papoušků\, bažantů\, kachniček\, plazů\, akvarijních ryb a menších savců s úžasným aranžmá exotických rostlin a stromů.\nTato událost není pouze o zábavě\, ale také o vzdělávání a osvětlení veřejnosti o naléhavé potřebě ochrany a zachování exotické přírody po celém světě.\nUvidíte mimo jiné největší hejno kakaduů\, které můžete pohromadě vidět pouze zde\, to vše v rámci kolekce handicapovaných papoušků od společností Laguna a Sunny Days. Tyto neziskové organizace přivezou papoušky\, kteří nás naučí\, že i přes své handicapy mohou mít plnohodnotný a šťastný život.\nMůžete těšit také na papoušky\, bažanty\, kachničky\, na výstavě budou k vidění i další exotičtí ptáci\, kteří vás svým pestrým peřím okouzlí.\nMilovníci plazů a dalších terarijních zvířat se budou moci těšit na expozici hadů\, želv a ještěrů\, pro fanoušky podvodního světa je připravena hala plná krásných akvárií a fascinujících ryb.\nVýstava Exotika představuje ideální příležitost pro rodiny\, milovníky zvířat\, studenty a všechny zájemce o přírodu\, kteří chtějí rozšířit své znalosti o exotických druzích. Přijďte a zažijte neuvěřitelnou exotickou atmosféru\, kterou vám nabízíme na 17. ročníku výstavy Exotika v Lysé nad Labem!
LOCATION:Lysá nad Labem
END:VEVENT
END:VCALENDAR