BEGIN:VCALENDAR
VERSION:2.0
CALSCALE:GREGORIAN
PRODID:-//MyApp//Calendar 1.0//EN
BEGIN:VEVENT
METHOD:PUBLISH
UID:59079@regionalniportaly.cz
DTSTAMP:20260421T100513Z
DTSTART;VALUE=DATE:20251130
DTEND;VALUE=DATE:20251201
SUMMARY:CD s Viliamem Poltikovičem - celý den 11-20 hod
DESCRIPTION:POZOR - OMEZENÝ POČET MÍST&nbsp\;Zveme Vás do duchovního centra JEDNA NOTA v barokní romantické usedlosti Přistoupim 1 - u Českého Brodu&nbsp\;(cca 33 min z Prahy vlakem či autem)na celodenní akci:CD s lidskou bytostínebo-liCelý Den s jedinečnýmVILIAMEM POLTIKOVIČEMkameramanem\, fotografem\, autorem 170 dokumentárních filmů (od roku 1989 s duchovní tématikou např. natočil filmy s Jeho Svatostí Dalajlamou\, Jaroslavem Duškem\, Eduardem Tomášem\, Mílou Tomášovou...)&nbsp\;OMEZENÝ POČET MÍST !PROGRAM:besedy na téma laskavosti\, soucitu\, návrat vnitřních hodnost v dnešní době &nbsp\;a další u příležitosti 90. narozenin Jeho Svatosti dalajlamydále promítání filmu Dalajlama v Buddhových stopách a následná besedaa povídání a beseda Viliaa Poltikoviče z jeho cest po Ázii\, Africe a Americe se zaěření na původní kultury a šamanismus&nbsp\;Občerstvení - vegerariánské oběd\, večere - lze koupit na místěAdresa konání: Centrum Jedna Nota - Přistoupim 1 u Českého BroduBonusy a dárky: voucher na slevu 600\,- Kč na výklad z Mandalového tarotu u jeho autorky Dominiky ShiryInformace\, dotazy neváhejte napsat či volat:dominika.shira9@sezna.cz&nbsp\; &nbsp\; &nbsp\; &nbsp\; &nbsp\;nebo&nbsp\; &nbsp\; &nbsp\; 737221212Těšíme se na VásDominika Shira\,&nbsp\; Centrum Jedna Nota&nbsp\;
LOCATION:Přistoupim
END:VEVENT
END:VCALENDAR