BEGIN:VCALENDAR
VERSION:2.0
CALSCALE:GREGORIAN
PRODID:-//MyApp//Calendar 1.0//EN
BEGIN:VEVENT
METHOD:PUBLISH
UID:59545@regionalniportaly.cz
DTSTAMP:20260421T094358Z
DTSTART;VALUE=DATE:20251115
DTEND;VALUE=DATE:20251116
SUMMARY:Husa & Víno | Zámek Křinec
DESCRIPTION:Svatomartinské menu podávané v nazdobené zámecké konírně či řízená degustace vín v doprovodu hudby. To a víc na vás čeká na zámku Křinec!PROGRAM AKCE:10.00 - 20.00 hod. | otevřená zámecká kavárna11.30 hod. | prohlídka zámku13.00 - 17.00 hod. | MALOVÁNÍ NA ZÁMECKÝ PORCELÁN PRO DĚTI I DOSPĚLÉ(dílna pro děti i dospělě\, malování na zámecký porcelán včetně výpalu na místě)13.00 hod. | SLAVNOSTNÍ SVATOMARTINSKÉ OBĚDOVÉ MENU V ZÁMECKÉ&nbsp\;KONÍRNĚ&nbsp\; (polévka\, husa s knedlíčkem a zelím\, víno z vinařství Kovács\, doprovod živé hudby\, prohlídka zámku od 11.30 hodin)14.00 a 15.30 hod. | prohlídka zámku17.00 hod. | ŘÍZENÁ DEGUSTACE VÍN(komentovaná degustace 10 vzorků svatomartinských a mladých moravských vín\, degustační talířek sýrů a uzenin\, pečivo\, hudba)&nbsp\;
LOCATION:Křinec
END:VEVENT
END:VCALENDAR