BEGIN:VCALENDAR
VERSION:2.0
CALSCALE:GREGORIAN
PRODID:-//MyApp//Calendar 1.0//EN
BEGIN:VEVENT
METHOD:PUBLISH
UID:59634@regionalniportaly.cz
DTSTAMP:20260421T083006Z
DTSTART;VALUE=DATE:20251221
DTEND;VALUE=DATE:20251222
SUMMARY:O Vánoční vločce
DESCRIPTION:Pohádkový příběh pro celou rodinuhraje Divadelní ochotnický spolek&nbsp\;Jirnyzpěvem doprovází žáci ZŠ Jirny pod vedením Jany NovéNámět: Kateřina KrylováScénář a režie: Petr HudskýPohádkový příběh pro celou rodinu o sněhové vločce\, která spadne na to samé místo na planetě Zemi\, jako před desítkami let. Příběh se odehrává o Vánocích a je protkán koledami a vzpomínkami na tradiční vánoční zvyky.Přijďte se na chvíli zastavit v předvánočním čase a máte-li\, vezměte s sebou malý zvoneček\, bude se hodit.Vstupné: 100 KčMísta v sále nejsou číslována.
LOCATION:Jirny
END:VEVENT
END:VCALENDAR