BEGIN:VCALENDAR
VERSION:2.0
CALSCALE:GREGORIAN
PRODID:-//MyApp//Calendar 1.0//EN
BEGIN:VEVENT
METHOD:PUBLISH
UID:59681@regionalniportaly.cz
DTSTAMP:20260421T094804Z
DTSTART;VALUE=DATE:20260320
DTEND;VALUE=DATE:20260321
SUMMARY:X. Reprezentační ples města Čelákovic
DESCRIPTION:X. Reprezentační ples města Čelákovic v tématu&nbsp\;"květinový".MOONDANCE ORCHESTRA MARTINA KUMŽÁKA se sólisty Dashou\, Naďou Wepperovou\, Dušanem Kollárem a Michalem Cermanem.Vystoupení tanečníků StarDance\, aneb když hvězdy tančí Jan Onder s partnerkou.Večerem provede Jana Doleželová.Welcome drink\, půlnoční překvapení\, afterparty.
LOCATION:Čelákovice
END:VEVENT
END:VCALENDAR