BEGIN:VCALENDAR
VERSION:2.0
CALSCALE:GREGORIAN
PRODID:-//MyApp//Calendar 1.0//EN
BEGIN:VEVENT
METHOD:PUBLISH
UID:59745@regionalniportaly.cz
DTSTAMP:20260421T100559Z
DTSTART;VALUE=DATE:20251217
DTEND;VALUE=DATE:20251218
SUMMARY:Petr Tomeček / Vánoční Panova flétna
DESCRIPTION:Srdečně vás zveme na koncert „Vánoční Panova flétna“\, který se uskuteční v Husitském kostele v Mnichovicích – v místě s jedinečným géniem loci\, kde se historie snoubí s duchovní atmosférou.V tajemně krásných tónech Panovy flétny\, jejíž zvuk připomíná hlas přírody i nebeský vánek\, zazní melodie sváteční i vánoční\, plné klidu\, radosti a naděje.Přijďte se na chvíli zastavit\, nadechnout a nechat se unést jemným kouzlem Vánoc.
LOCATION:Mnichovice
END:VEVENT
END:VCALENDAR