BEGIN:VCALENDAR
VERSION:2.0
CALSCALE:GREGORIAN
PRODID:-//MyApp//Calendar 1.0//EN
BEGIN:VEVENT
METHOD:PUBLISH
UID:59849@regionalniportaly.cz
DTSTAMP:20260421T111602Z
DTSTART;VALUE=DATE:20251207
DTEND;VALUE=DATE:20251208
SUMMARY:OUDIV - Bakaláři z paneláku
DESCRIPTION:Po roce jsme si opět připravili vtipné vánoční příběhy\, které napsal sám život.
LOCATION:Doubravčice
END:VEVENT
END:VCALENDAR