BEGIN:VCALENDAR
VERSION:2.0
CALSCALE:GREGORIAN
PRODID:-//MyApp//Calendar 1.0//EN
BEGIN:VEVENT
METHOD:PUBLISH
UID:59964@regionalniportaly.cz
DTSTAMP:20260421T111609Z
DTSTART;VALUE=DATE:20251206
DTEND;VALUE=DATE:20251207
SUMMARY:Mikulášská kouzelná stezka
DESCRIPTION:NECHCETE SI POZVAT MIKULÁŠE DOMŮ\, ALE PŘECI JEN BYSTE O KOUZLO SVÁTEČNÍHO DNE A O MIKULÁŠSKOU NADÍLKU NERADI PŘIŠLI? NEBO BYSTE JEN RÁDI NASÁLI VÁNOČNÍ ATMOSFÉRU? Ano?PAK MUSÍTE V SOBOTU 6. 12. 2025 NA ZÁMEK V KŘINCI! :-)O CO SE JEDNÁ? Čeká vás KOUZELNÁ STEZKA světy lidskými i nadpřirozenými\, projdete peklem\, nebem\, začarovaným lesem nebo cukrovou chodbou\, potkáte čerty\, anděly\, víly a jiné tajemné bytosti\, ale především také Mikuláše! Cestou budete plnit úkoly i hádanky a pokud jste byli všichni celý rok hodní\, čeká na vás odměna. :-)JAK JE TO SE VSTUPEM A ČASY? KOUZELNÁ STEZKA JE PO ZAKOUPENÍ VSTUPENKY VOLNĚ PŘÍSTUPNÁ V ČASE 13-17 HOD. a každý si může stezku projít vlastním tempem\, vyfotit se\, popovídat si třeba s anděly\, nebo se pokochat staletým platanem\, protože stezka povede i přes náš dvůr. (Vstupenky je možné zakoupit na hodinové časové "sloty" a doporučujeme v danou hodinu dorazit\, abyste se vyhnuli frontě.)A CO TA MIKULÁŠSKÁ NADÍLKA? Náš Mikuláš nabízí možnost si předem objednat balíček pro dítě\, a to buď zdravý\, nebo mlsací - objednat si ho můžete rovnou spolu se vstupenkami\, ALE POZOR\, POUZE DO ČTVRTKA! V případě\, že byste chtěli dítěti dopřát balíček svůj\, přineste jej a označte jej jménem.ZÁMECKÁ KAVÁRNA s dětským koutkem bude po celý den otevřena\, doporučujeme tedy se zastavit na kafíčko\, kakao nebo teplý čaj a ochutnat některé z našich výborných zákusků.&nbsp\;Neváhejte a pořiďte si vstupenky včas – těšíme se na vás!
LOCATION:Křinec
END:VEVENT
END:VCALENDAR