BEGIN:VCALENDAR
VERSION:2.0
CALSCALE:GREGORIAN
PRODID:-//MyApp//Calendar 1.0//EN
BEGIN:VEVENT
METHOD:PUBLISH
UID:60056@regionalniportaly.cz
DTSTAMP:20260421T162631Z
DTSTART;VALUE=DATE:20251205
DTEND;VALUE=DATE:20251206
SUMMARY:Vánoční fotoateliér
DESCRIPTION:VÁNOČNÍ FOTOATELIÉR PRO VEŘEJNOST NA ZÁMKU V KŘINCIPO LOŇSKÉ PREMIÉŘE JSME PRO VÁS PŘICHYSTALI NÁŠ VÁNOČNÍ FOTOATELIÉR I LETOS!Rezervujte si svůj čas ve vybraných termínech a přijďte si vytvořit fotografickou vzpomínku na adventní čas spolu se svými blízkými.TERMÍNY:pá 14.11. 9-14 hod.so 15.11. 9-16 hod. (akce HUSA &amp\; VÍNO)ne 16.11. 10-16 hod.čt 4.12. 9-15 hod.pá 5.12. 9-15 hod.so 6.12. 9-15 hod. (akce MIKULÁŠ)ne 7.12. 9-15 hod.st 10.12. 11-15 hod.čt 11.12. 11-15 hod.pá 12.12. 11-15 hod.so 13.12. 9-16 hod. (akce VÁNOČNÍ TRHY)ne 14.12. 9-16 hod.Časy se rezervují ve 30minutových intervalech\, kolik půlhodinek si rezervujete\, je na vás. Vždy je však NUTNÁ REZERVACE FOTOATELIÉRU ONLINE.Fotoateliér je vybaven i drobnými dekoracemi a doplňky\, fotoaparát či mobil si ale musíte přinést vlastní&nbsp\;. Upozorňujeme\, že v ateliéru není zcela pokojová teplota\, proto huňaté svetry\, šály a kulichy jsou více než vítány.&nbsp\;&nbsp\;Těšíme se\, že vám opět uděláme radost!
LOCATION:Křinec
END:VEVENT
END:VCALENDAR