BEGIN:VCALENDAR
VERSION:2.0
CALSCALE:GREGORIAN
PRODID:-//MyApp//Calendar 1.0//EN
BEGIN:VEVENT
METHOD:PUBLISH
UID:60268@regionalniportaly.cz
DTSTAMP:20260421T094745Z
DTSTART;VALUE=DATE:20251213
DTEND;VALUE=DATE:20251214
SUMMARY:Screamers - Vánoční speciál
DESCRIPTION:🎄&nbsp\;Screamers – Vánoční speciál&nbsp\;🎭&nbsp\;Nechte se unést kouzlem Vánoc s nejznámější travesti- divadelní skupinou v Česku! Screamers vám přinášejí svátečně laděný večer plný humoru\, okouzlujících kostýmů\, známých melodií a jedinečné atmosféry. Vánoční speciál je plný nadsázky\, zábavy a brilantních proměn\, které vás zaručeně pobaví i dojmou.&nbsp\;Přijďte se naladit na sváteční vlnu\, zapomenout na starosti a zažít večer plný třpytu\, smíchu a pohody. Screamers vás zvou na vánoční jízdu\, na kterou jen tak nezapomenete!&nbsp\;✨&nbsp\;Humor\, parodie\, emoce – to vše ve svátečním balení. Těšíme se na vás!
LOCATION:Lysá nad Labem
END:VEVENT
END:VCALENDAR