BEGIN:VCALENDAR
VERSION:2.0
CALSCALE:GREGORIAN
PRODID:-//MyApp//Calendar 1.0//EN
BEGIN:VEVENT
METHOD:PUBLISH
UID:60308@regionalniportaly.cz
DTSTAMP:20260421T101409Z
DTSTART;VALUE=DATE:20251214
DTEND;VALUE=DATE:20251215
SUMMARY:Vánoční hudební prohlídky | Zámek Křinec
DESCRIPTION:VÁNOČNÍ HUDEBNÍ PROHLÍDKY ZÁMKU KŘINECMimořádné vánoční hudební prohlídky zámku s výkladem plným zajímavostí\, tradic\, ale hlavně hudebních ukázek\, které zabaví dospělé i děti.V rámci prohlídek je možné ochutnat sladkou zámeckou specialitu\, která u poslední aristokratické rodiny nesměla chybět na štědrovečení tabuli.13.12. probíhá celý den adventní trh na zámeckém nádvoří a je otevřená kavárna14.12. probíhají pouze prohlídky zámku a je otevřená zámecká kavárna&nbsp\;
LOCATION:Křinec
END:VEVENT
END:VCALENDAR