BEGIN:VCALENDAR
VERSION:2.0
CALSCALE:GREGORIAN
PRODID:-//MyApp//Calendar 1.0//EN
BEGIN:VEVENT
METHOD:PUBLISH
UID:60498@regionalniportaly.cz
DTSTAMP:20260421T111635Z
DTSTART;VALUE=DATE:20251219
DTEND;VALUE=DATE:20251220
SUMMARY:Jakub Jan Ryba: Česká mše vánoční
DESCRIPTION:Symfonický orchestr Dalibora Havlíčka ve spolupráci s Kamenickým pěveckým sborem a smíšeným sborem Homunculí Vás srdečně zve na  Českou mši vánoční „Hej\, Mistře!“ Jakuba Jana Ryby.\n Přijďte si vychutnat radostnou a svěží atmosféru tohoto slavného Rybova díla\, jež je i po téměř 230 letech od svého prvního uvedení symbolem českých Vánoc a je stále přístupné a srozumitelné širokému publiku. Těšíme se na Vás!  
LOCATION:Jesenice
END:VEVENT
END:VCALENDAR