BEGIN:VCALENDAR
VERSION:2.0
CALSCALE:GREGORIAN
PRODID:-//MyApp//Calendar 1.0//EN
BEGIN:VEVENT
METHOD:PUBLISH
UID:61297@regionalniportaly.cz
DTSTAMP:20260421T063903Z
DTSTART;VALUE=DATE:20260410
DTEND;VALUE=DATE:20260411
SUMMARY:Alkehol turné „Připíjím“
DESCRIPTION:Na jaře k nám dorazí nestárnoucí legenda českého rocku Alkehol ...... a jako host vystoupí Havířovská skupina Bastard&nbsp\;Alkehol je česká rocková hudební skupina. Vznikla v roce 1991\, kdy se Ota Hereš a Petr Buneš\, tehdy kytaristé trashmetalové skupiny Kryptor\, rozhodli složit ne-trashmetalové písně s hospodskými texty. Ústředím místem\, kde svou tvorbu konzultovali\, byla pražská restaurace „Na Slamníku.Nemusíme připomínat hity Na Slamníku\, Pivo dělá hezká těla\, Anděl strážnej\, Spalováč chlastu\, Na zdraví a mnoho mnoho dalších.&nbsp\;Vznik havířovského BASTARDu se datuje k roku 1993. V tom následujícím už jako objev vydavatelství Monitor předskakoval slavným Kabátům na jejich turné\, aby se ale už v roce 1995 uložil k dlouhému spánku. Po dvaceti letech však přichystal výrazný comeback\, kdy předskakoval legendám CITRON\, KREYSON\, BONFIRE\, URIAH HEEP nebo TRAKTOR. Po úspěšných deskách "Druhá Müza" a "Alchymie D.N.A." došlo v kapele k personálním změnám a v nové sestavě vydal BASTARD singly "V řetězech" a "Veselý kouř" a je stabilním rockovým prvkem velkých festivalů\, motosrazů či městských slavností.&nbsp\;Přijďte si poslechnout spoustu rockového nářezu.VystupujícíAlkehol (CZ) – web / fb / bandzone / bandcamp / insta / youtube / Spotify Bastard (CZ) – web / fb / bandzone / insta / youtube / Spotify
LOCATION:Čelákovice
END:VEVENT
END:VCALENDAR