BEGIN:VCALENDAR
VERSION:2.0
CALSCALE:GREGORIAN
PRODID:-//MyApp//Calendar 1.0//EN
BEGIN:VEVENT
METHOD:PUBLISH
UID:61419@regionalniportaly.cz
DTSTAMP:20260421T143644Z
DTSTART;VALUE=DATE:20260207
DTEND;VALUE=DATE:20260208
SUMMARY:Obecní ples
DESCRIPTION:Srdečně Vás zveme na druhý Obecní ples v obci Babice u Říčan\, který se koná 7.2.2026 v obecním sále od 19 hod.&nbsp\;Prodej vstupenek probíhá pouze přes SMSticket a výběr konkrétních míst je NUTNÉ&nbsp\;REZERVOVAT na obecním úřadě po předložení zakoupené vstupenky.&nbsp\;
LOCATION:Babice
END:VEVENT
END:VCALENDAR