BEGIN:VCALENDAR
VERSION:2.0
CALSCALE:GREGORIAN
PRODID:-//MyApp//Calendar 1.0//EN
BEGIN:VEVENT
METHOD:PUBLISH
UID:61929@regionalniportaly.cz
DTSTAMP:20260421T132348Z
DTSTART;VALUE=DATE:20260124
DTEND;VALUE=DATE:20260125
SUMMARY:Zvláštním vlakem do pivovaru Rampušák v Dobrušce
DESCRIPTION:Zvláštní rychlíkový spoj Praha – Lysá nad Labem – Hradec Králové – Dobruška a zpět.\nPrůjezd trati Opočno – Dobruška bez víkendové osobní dopravy.Prohlídka pivovaru Rampušák s degustací.Návštěva pivovarské restaurace.Pivovarská prodejna se suvenýry.\nPředběžný jízdní řád:Praha hl. n. 8:00 – Lysá nad Labem – Nymburk hl. n. – Dobruška 11:00\nDobruška 16:30 – Nymburk hl. n. – Lysá nad Labem – Praha hl. n. 19:30
LOCATION:Lysá nad Labem
END:VEVENT
END:VCALENDAR