BEGIN:VCALENDAR
VERSION:2.0
CALSCALE:GREGORIAN
PRODID:-//MyApp//Calendar 1.0//EN
BEGIN:VEVENT
METHOD:PUBLISH
UID:65668@regionalniportaly.cz
DTSTAMP:20260421T045218Z
DTSTART;VALUE=DATE:20260618
DTEND;VALUE=DATE:20260621
SUMMARY:Lázeňský veletrh 2026
DESCRIPTION:16. veletrh léčebných lázní\, wellness pobytů a relaxaceLázeňský veletrh 2026\, který proběhne 18.–21. června 2026 na Výstavišti Lysá nad Labem\, je místem setkání profesionálů\, poskytovatelů lázeňských a wellness služeb a lidí\, kteří hledají inspiraci pro zdraví\, relaxaci a kvalitní životní styl.\nNa veletrhu najdete široké spektrum služeb a produktů od tradičních i moderních lázeňských zařízení\, wellness center\, pobytových balíčků\, zdravotních a relaxačních služeb.\nPro návštěvníky je to příležitost načerpat inspiraci\, získat praktické rady\, najít vhodný lázeňský pobyt\, wellness program či tipy pro aktivní a zdravý životní styl.\nPro vystavovatele je Lázeňský veletrh 2026 ideální platformou k setkání s cílovým publikem\, které má zájem o lázeňské služby\, relaxaci a wellness zážitky. Vaše účast zde znamená přímý kontakt s lidmi\, kteří plánují své pobyty\, hledají nové služby a produkty a mají zájem o spolupráci či dlouhodobé partnerství.\nPřijďte objevit\, jak může kvalitní péče o zdraví a relaxace obohatit váš život. Lázeňský veletrh 2026 je místem\, kde se inspirace setkává s praxí a kde každý návštěvník i vystavovatel získá prostor pro nové zážitky\, kontakty a inspiraci.\nSoučástí akce jsou také výstava Senior – Šikovné ruce našich seniorů a výstava KVĚTY\, které doplňují program o kreativní inspiraci a vizuálně atraktivní zážitky pro všechny návštěvníky.
LOCATION:Lysá nad Labem
END:VEVENT
END:VCALENDAR