BEGIN:VCALENDAR
VERSION:2.0
CALSCALE:GREGORIAN
PRODID:-//MyApp//Calendar 1.0//EN
BEGIN:VEVENT
METHOD:PUBLISH
UID:65669@regionalniportaly.cz
DTSTAMP:20260421T050817Z
DTSTART;VALUE=DATE:20260618
DTEND;VALUE=DATE:20260621
SUMMARY:Senioř - šikovné ruce našich seniorů
DESCRIPTION:Výstava Senior je především o síle a odhodlání překonávat překážky a žít plnohodnotný život navzdory postižení\, či vyššímu věku a právě tím dokáže oslovit úplně každého. V odborné části výstavy najdou návštěvníci nabídku pomůcek a služeb pro různé druhy handicapů. Prezentovat se budou zařízení sociální péče všech typů a rovněž tu budou vystavovatelé se zbožím nezbytným pro každodenní život. Lidí\, kteří potřebují pomoci\, ať z důvodu věku\, fyzického či psychického postižení\, tak z důvodu sociálního handicapu\, bude stále přibývat. A protože specializovaných akcí pro tento segment obyvatelstva je jako šafránu\, předpokládáme\, že výstava Senior se bude i nadále rozvíjet. Šikovné ruce našich seniorů Naprosto výjimečná výstava rukodělných prací ze soutěže Šikovné ruce našich seniorů se uskuteční již po pětadvacáté. Okruhy činností jsou ruční práce a literární práce. Víc jak tři a půl tisíce výstavních exponátů\, které zaplní celou výstavní halu\, se jistě setká se stejným nadšením návštěvníků\, jako ve všech předchozích ročnících.
LOCATION:Lysá nad Labem
END:VEVENT
END:VCALENDAR